BEGIN:VCALENDAR
VERSION:2.0
PRODID:-//ChamberMaster//Event Calendar 2.0//EN
METHOD:PUBLISH
X-PUBLISHED-TTL:P3D
REFRESH-INTERVAL:P3D
CALSCALE:GREGORIAN
BEGIN:VEVENT
DTSTART:20311015T230000Z
DTEND:20311016T010000Z
X-MICROSOFT-CDO-ALLDAYEVENT:FALSE
SUMMARY:Wine Down Wednesday @ Stavalaura Vineyard PLEASE REGISTER
DESCRIPTION:Join the Ridgefield Chamber of Commerce for our monthly Wine Down Wednesday event with area business professionals\, leaders\, and other community members. Our awesome host is the beautiful Stavalaura Vineyards. Come join us for a relaxing night of networking and fine wines. Remember to bring your business cards for networking and a door prize if you would like to promote your business!\n\nEnjoy good times\, fine wines and of course\, networking with fellow members of the Ridgefield Chamber of Commerce!\n\nIn addition to networking\, our goal is to showcase member businesses and introduce people to newer businesses in the community.\n\n\n\nPLEASE PRE-REGISTER FOR THIS EVENT\n\n \n\nLocation rotates each month\, and networking is drop-in style\, from 4-6pm.\n\nFollow our Facebook events for additional updates - https://www.facebook.com/RidgefieldWAChamberofCommerce/
X-ALT-DESC;FMTTYPE=text/html:<p data-pm-slice="1 1 []">Join the Ridgefield Chamber of Commerce for our monthly Wine Down Wednesday event with area business professionals\, leaders\, and other community members. Our awesome host is the beautiful Stavalaura Vineyards. Come join us for a relaxing night of networking and fine wines.&nbsp\;<span style="color: rgb(51\, 51\, 51)\; font-family: sans-serif\, Arial\, Verdana\, &quot\;Trebuchet MS&quot\;\; font-size: 13px\; background-color: rgb(255\, 255\, 255)\;">Remember to bring your business cards for networking and a door prize if you would like to promote your business!</span></p>\n\n<p>Enjoy good times\, fine wines and of course\, networking with fellow members of the Ridgefield Chamber of Commerce!</p>\n\n<p>In addition to networking\, our goal is to showcase member businesses and introduce people to newer businesses in the community.<br />\n<br />\nPLEASE PRE-REGISTER FOR THIS EVENT</p>\n\n<p>&nbsp\;</p>\n\n<p>Location rotates each month\, and networking is drop-in style\, from 4-6pm.</p>\n\n<p>Follow our Facebook events for additional updates - <a class="ProsemirrorEditor-link" href="https://www.facebook.com/RidgefieldWAChamberofCommerce/">https://www.facebook.com/RidgefieldWAChamberofCommerce/</a></p>\n
LOCATION:Stavalaura Vineyards 29503 NW 41st Ave Ridgefield\, WA 98642
UID:e.3468.4793
SEQUENCE:3
DTSTAMP:20260423T114924Z
URL:http://business.ridgefieldchamberofcommerce.com/events/details/wine-down-wednesday-please-register-10-15-2031-4793
END:VEVENT

END:VCALENDAR
