BEGIN:VCALENDAR
VERSION:2.0
PRODID:-//ChamberMaster//Event Calendar 2.0//EN
METHOD:PUBLISH
X-PUBLISHED-TTL:P3D
REFRESH-INTERVAL:P3D
CALSCALE:GREGORIAN
BEGIN:VEVENT
DTSTART:20260501T143000Z
DTEND:20260501T160000Z
X-MICROSOFT-CDO-ALLDAYEVENT:FALSE
SUMMARY:Coffee Connection @ Papa Pete's Pizza SPEED NETWORKING DAY
DESCRIPTION:Come out and meet other local business and community leaders. Be sure and bring your business cards and a door prize if you like\, to promote your business. Today is Speed Networking day so come join us and meet lots of new folks!
X-ALT-DESC;FMTTYPE=text/html:<span style="caret-color: rgb(0\, 0\, 0)\; color: rgb(0\, 0\, 0)\; font-family: Calibri\, sans-serif\; font-size: 14.6667px\; text-size-adjust: auto\;">Come out and meet other local business and community leaders. Be sure and bring your business cards and a door prize if you like\, to promote your business. Today is Speed Networking day so come join us and meet lots of new folks!</span>
LOCATION:Papa Pete's Pizza 109 S 65th Ave Ridgefield\, WA 98642
UID:e.3468.4395
SEQUENCE:3
DTSTAMP:20260423T034449Z
URL:https://business.ridgefieldchamberofcommerce.com/events/details/coffee-connection-papa-pete-s-pizza-speed-networking-day-4395
END:VEVENT

END:VCALENDAR
