BEGIN:VCALENDAR
VERSION:2.0
PRODID:-//ChamberMaster//Event Calendar 2.0//EN
METHOD:PUBLISH
X-PUBLISHED-TTL:P3D
REFRESH-INTERVAL:P3D
CALSCALE:GREGORIAN
BEGIN:VEVENT
DTSTART:20260428T183000Z
DTEND:20260428T200000Z
X-MICROSOFT-CDO-ALLDAYEVENT:FALSE
SUMMARY:Lunch and Learn - Non-Profit Panel
DESCRIPTION:Our special presentation this month is highlighting a few our local Non-Profit organizations. You will be learning from the following:\nRidgefield Art Association: \n\n\nMission:  RAA helps connect artists to our local art community. We also connect the community itself to art. Now that we have a gallery we hope residents and visitors will be able to see and appreciate the talent that we have in this town.\n\n \n\nGoals: Keep awareness  of how important art is in our lives. Continue to help support visual artists and also musicians.  Hope to expand outreach and offer classes and also would like to see theater arts be available in RIdgefield.\n\n \n\nKey Highlights: The bimonthly show in the library is an opportunity for any RAA member to display their art.  The downtown gallery is a co-op business model that is still non-profit and run by volunteers.  Less visible are the support we give to the schools via Ridgefield Youth Arts Month\, donation to projects and a  scholarship for graduating seniors.\n\n \n\n\nLeadership Clark County:\n\n \n\nLeadership Clark County is a non profit civic leadership program aimed at developing effective leaders to serve Clark County. Each year we run a nine month program from September-June in which 36 individuals from diverse backgrounds participate in monthly sessions on different systems in Clark County\, such as Education\, Economic Drivers\, Legal\, Government\, etc.  We conduct a dive deep into current issues facing that system and bring in expert businesses\, non-profits\, and individuals who are doing the work to make a difference and help connect class members to get involved with something they are passionate about. At the end of the 9 months participants walk away with a better understanding of the issues Clark County is facing and feeling more connected with their class members and their community.  LCC has been in business for 33 years and has over 900 alumni serving the community on various boards\, commissions\, elected positions\, and other volunteer roles. \n\n \n\nNational Wildlife Refuge: \n\n\n\n\n\n\n\nMission: \n\nThe Friends of Ridgefield National Wildlife Refuge is a non-profit membership organization that champions the protection of wildlife and their habitats by broadening public understanding of and engagement in the natural and cultural resources of the Ridgefield National Wildlife Refuge.\n\nGoals: \n\n-Fundraise to support the organization's mission\, including raising money for the new Community Nature Center's interpretive and functional needs\n\n-Provide outreach and education about Ridgefield National Wildlife Refuge\n\n-Promote wildlife and habitat conservation efforts through social media\, workshops\, events\, and education programs\n\n-Promote the Refuge's programs and support their funding and volunteer needs\n\n-Engage with local community businesses to help spread the above messages\n\n \n\nNeighbors Helping Neighbors:\n\n\n\n\n\n\n\n\n\n\n\n \n\nFor 40 years\, Neighbors Helping Neighbors has worked to alleviate\n\nhunger in our community.\n\nThrough the efforts of volunteers and donations from local residents\, and support from\n\norganizations including Green Bag Ridgefield\, the Clark County Food Bank and Rosauers\n\nSupermarkets\, we provide food\, clothing and household staples to needy residents of Ridgefield\, La\n\nCenter\, Felida and Salmon Creek.\n\nIn addition to weekly distributions of food baskets of shelf-stable food\, fresh produce\, frozen and\n\nrefrigerated food and bulk dry food products\, and weekly distribution of household staples such as\n\ndishwashing soap\, toilet paper\, and paper towels\, we also distribute holiday food boxes with\n\nturkeys\, produce and foods traditionally eaten during the holidays and gift bags for members of the\n\nfamilies served.\n\n\n\n\n\n\n\n\nRemember to bring your business cards for networking and a door prize if you would like to promote your business! We look forward to seeing  you all there as we learn from our non-profit panel of guests.
X-ALT-DESC;FMTTYPE=text/html:<span style="color: rgb(51\, 51\, 51)\; font-family: sans-serif\, Arial\, Verdana\, &quot\;Trebuchet MS&quot\;\; font-size: 13px\; background-color: rgb(255\, 255\, 255)\;">Our special presentation this month is highlighting a few our local Non-Profit organizations. You will be learning from the following:</span>\n<div style="border: 0px\; font-variant-numeric: inherit\; font-variant-east-asian: inherit\; font-variant-alternates: inherit\; font-variant-position: inherit\; font-variant-emoji: inherit\; font-stretch: inherit\; font-size: 15px\; line-height: inherit\; font-family: &quot\;Segoe UI&quot\;\, &quot\;Segoe UI Web (West European)&quot\;\, -apple-system\, BlinkMacSystemFont\, Roboto\, &quot\;Helvetica Neue&quot\;\, sans-serif\; font-optical-sizing: inherit\; font-size-adjust: inherit\; font-kerning: inherit\; font-feature-settings: inherit\; font-variation-settings: inherit\; font-language-override: inherit\; margin: 0px\; padding: 0px\; vertical-align: baseline\; color: rgb(36\, 36\, 36)\; background-color: rgb(255\, 255\, 255)\;"><b data-olk-copy-source="MessageBody">Ridgefield Art Association:</b>&nbsp\;</div>\n\n<div style="border: 0px\; font-variant-numeric: inherit\; font-variant-east-asian: inherit\; font-variant-alternates: inherit\; font-variant-position: inherit\; font-variant-emoji: inherit\; font-stretch: inherit\; font-size: 15px\; line-height: inherit\; font-family: &quot\;Segoe UI&quot\;\, &quot\;Segoe UI Web (West European)&quot\;\, -apple-system\, BlinkMacSystemFont\, Roboto\, &quot\;Helvetica Neue&quot\;\, sans-serif\; font-optical-sizing: inherit\; font-size-adjust: inherit\; font-kerning: inherit\; font-feature-settings: inherit\; font-variation-settings: inherit\; font-language-override: inherit\; margin: 0px\; padding: 0px\; vertical-align: baseline\; color: rgb(36\, 36\, 36)\; background-color: rgb(255\, 255\, 255)\;">\n<div style="border: 0px\; font: inherit\; margin: 0px\; padding: 0px\; vertical-align: baseline\; color: inherit\;">Mission:&nbsp\; RAA helps connect artists to our local art community. We also connect the community itself to art. Now that we have a gallery we hope residents and visitors will be able to see and appreciate the talent that we have in this town.</div>\n\n<div style="border: 0px\; font: inherit\; margin: 0px\; padding: 0px\; vertical-align: baseline\; color: inherit\;">&nbsp\;</div>\n\n<div style="border: 0px\; font: inherit\; margin: 0px\; padding: 0px\; vertical-align: baseline\; color: inherit\;">Goals: Keep awareness&nbsp\; of how important art is in our lives. Continue to help support visual artists and also musicians.&nbsp\; Hope to expand outreach and offer classes and also would like to see theater arts be available in RIdgefield.</div>\n\n<div style="border: 0px\; font: inherit\; margin: 0px\; padding: 0px\; vertical-align: baseline\; color: inherit\;">&nbsp\;</div>\n\n<div style="border: 0px\; font: inherit\; margin: 0px\; padding: 0px\; vertical-align: baseline\; color: inherit\;">Key Highlights: The bimonthly show in the library is an opportunity for any RAA member to display their art.&nbsp\; The downtown&nbsp\;gallery is a co-op business model that is still non-profit and run by volunteers.&nbsp\; Less visible are the support we give to the schools via Ridgefield&nbsp\;Youth Arts Month\, donation to projects and a&nbsp\;&nbsp\;scholarship&nbsp\;for graduating seniors.</div>\n\n<div style="border: 0px\; font: inherit\; margin: 0px\; padding: 0px\; vertical-align: baseline\; color: inherit\;">&nbsp\;</div>\n</div>\n\n<div style="border: 0px\; font-variant-numeric: inherit\; font-variant-east-asian: inherit\; font-variant-alternates: inherit\; font-variant-position: inherit\; font-variant-emoji: inherit\; font-stretch: inherit\; font-size: 15px\; line-height: inherit\; font-family: &quot\;Segoe UI&quot\;\, &quot\;Segoe UI Web (West European)&quot\;\, -apple-system\, BlinkMacSystemFont\, Roboto\, &quot\;Helvetica Neue&quot\;\, sans-serif\; font-optical-sizing: inherit\; font-size-adjust: inherit\; font-kerning: inherit\; font-feature-settings: inherit\; font-variation-settings: inherit\; font-language-override: inherit\; margin: 0px\; padding: 0px\; vertical-align: baseline\; color: rgb(36\, 36\, 36)\; background-color: rgb(255\, 255\, 255)\;"><b>Leadership Clark County:</b></div>\n\n<div style="border: 0px\; font-variant-numeric: inherit\; font-variant-east-asian: inherit\; font-variant-alternates: inherit\; font-variant-position: inherit\; font-variant-emoji: inherit\; font-stretch: inherit\; font-size: 15px\; line-height: inherit\; font-family: &quot\;Segoe UI&quot\;\, &quot\;Segoe UI Web (West European)&quot\;\, -apple-system\, BlinkMacSystemFont\, Roboto\, &quot\;Helvetica Neue&quot\;\, sans-serif\; font-optical-sizing: inherit\; font-size-adjust: inherit\; font-kerning: inherit\; font-feature-settings: inherit\; font-variation-settings: inherit\; font-language-override: inherit\; margin: 0px\; padding: 0px\; vertical-align: baseline\; color: rgb(36\, 36\, 36)\; background-color: rgb(255\, 255\, 255)\;">&nbsp\;</div>\n\n<div style="border: 0px\; font-variant-numeric: inherit\; font-variant-east-asian: inherit\; font-variant-alternates: inherit\; font-variant-position: inherit\; font-variant-emoji: inherit\; font-stretch: inherit\; font-size: 15px\; line-height: inherit\; font-family: &quot\;Segoe UI&quot\;\, &quot\;Segoe UI Web (West European)&quot\;\, -apple-system\, BlinkMacSystemFont\, Roboto\, &quot\;Helvetica Neue&quot\;\, sans-serif\; font-optical-sizing: inherit\; font-size-adjust: inherit\; font-kerning: inherit\; font-feature-settings: inherit\; font-variation-settings: inherit\; font-language-override: inherit\; margin: 0px\; padding: 0px\; vertical-align: baseline\; color: rgb(36\, 36\, 36)\; background-color: rgb(255\, 255\, 255)\;"><span style="border: 0px\; font-style: inherit\; font-variant: inherit\; font-weight: inherit\; font-stretch: inherit\; font-size: inherit\; line-height: inherit\; font-family: arial\, sans-serif\; font-optical-sizing: inherit\; font-size-adjust: inherit\; font-kerning: inherit\; font-feature-settings: inherit\; font-variation-settings: inherit\; font-language-override: inherit\; margin: 0px\; padding: 0px\; vertical-align: baseline\; color: inherit\;">Leadership Clark County is a non profit civic leadership program aimed at developing effective leaders to serve Clark County. Each year we run a nine month program from September-June in which 36 individuals&nbsp\;from diverse backgrounds participate in monthly sessions on different systems in Clark County\, such as Education\, Economic Drivers\, Legal\, Government\, etc.&nbsp\; We conduct a dive deep into current issues facing that system and bring in expert&nbsp\;businesses\, non-profits\, and individuals&nbsp\;who are doing the work to make a difference and help connect class members to get involved with something they are passionate about. At the end of the 9 months participants&nbsp\;walk away with a better understanding of the issues Clark County is facing and feeling more connected with their class members and their community.&nbsp\; LCC has been in business for 33 years and has over 900 alumni serving the community on various boards\, commissions\, elected positions\, and other volunteer roles.&nbsp\;</span></div>\n\n<div style="border: 0px\; font-variant-numeric: inherit\; font-variant-east-asian: inherit\; font-variant-alternates: inherit\; font-variant-position: inherit\; font-variant-emoji: inherit\; font-stretch: inherit\; font-size: 15px\; line-height: inherit\; font-family: &quot\;Segoe UI&quot\;\, &quot\;Segoe UI Web (West European)&quot\;\, -apple-system\, BlinkMacSystemFont\, Roboto\, &quot\;Helvetica Neue&quot\;\, sans-serif\; font-optical-sizing: inherit\; font-size-adjust: inherit\; font-kerning: inherit\; font-feature-settings: inherit\; font-variation-settings: inherit\; font-language-override: inherit\; margin: 0px\; padding: 0px\; vertical-align: baseline\; color: rgb(36\, 36\, 36)\; background-color: rgb(255\, 255\, 255)\;">&nbsp\;</div>\n\n<div style="border: 0px\; font-variant-numeric: inherit\; font-variant-east-asian: inherit\; font-variant-alternates: inherit\; font-variant-position: inherit\; font-variant-emoji: inherit\; font-stretch: inherit\; font-size: 15px\; line-height: inherit\; font-family: &quot\;Segoe UI&quot\;\, &quot\;Segoe UI Web (West European)&quot\;\, -apple-system\, BlinkMacSystemFont\, Roboto\, &quot\;Helvetica Neue&quot\;\, sans-serif\; font-optical-sizing: inherit\; font-size-adjust: inherit\; font-kerning: inherit\; font-feature-settings: inherit\; font-variation-settings: inherit\; font-language-override: inherit\; margin: 0px\; padding: 0px\; vertical-align: baseline\; color: rgb(36\, 36\, 36)\; background-color: rgb(255\, 255\, 255)\;"><b>National Wildlife Refuge:</b>&nbsp\;</div>\n\n<div style="border: 0px\; font-variant-numeric: inherit\; font-variant-east-asian: inherit\; font-variant-alternates: inherit\; font-variant-position: inherit\; font-variant-emoji: inherit\; font-stretch: inherit\; font-size: 15px\; line-height: inherit\; font-family: &quot\;Segoe UI&quot\;\, &quot\;Segoe UI Web (West European)&quot\;\, -apple-system\, BlinkMacSystemFont\, Roboto\, &quot\;Helvetica Neue&quot\;\, sans-serif\; font-optical-sizing: inherit\; font-size-adjust: inherit\; font-kerning: inherit\; font-feature-settings: inherit\; font-variation-settings: inherit\; font-language-override: inherit\; margin: 0px\; padding: 0px\; vertical-align: baseline\; color: rgb(36\, 36\, 36)\; background-color: rgb(255\, 255\, 255)\;">\n<div style="border: 0px\; font: inherit\; margin: 0px\; padding: 0px\; vertical-align: baseline\; color: inherit\;">\n<div style="border: 0px\; font-style: inherit\; font-variant: inherit\; font-weight: inherit\; font-stretch: inherit\; font-size: large\; line-height: inherit\; font-family: inherit\; font-optical-sizing: inherit\; font-size-adjust: inherit\; font-kerning: inherit\; font-feature-settings: inherit\; font-variation-settings: inherit\; font-language-override: inherit\; margin: 0px\; padding: 0px\; vertical-align: baseline\; color: inherit\;">\n<div dir="ltr" style="border: 0px\; font-style: inherit\; font-variant: inherit\; font-weight: inherit\; font-stretch: inherit\; font-size: 18px\; line-height: inherit\; font-family: inherit\; font-optical-sizing: inherit\; font-size-adjust: inherit\; font-kerning: inherit\; font-feature-settings: inherit\; font-variation-settings: inherit\; font-language-override: inherit\; margin: 0px\; padding: 0px\; vertical-align: baseline\; color: rgb(0\, 0\, 0)\;">\n<div style="border: 0px\; font: inherit\; margin: 0px\; padding: 0px\; vertical-align: baseline\; color: inherit\;">\n<div style="border: 0px\; font-style: inherit\; font-variant: inherit\; font-weight: inherit\; font-stretch: inherit\; font-size: large\; line-height: inherit\; font-family: inherit\; font-optical-sizing: inherit\; font-size-adjust: inherit\; font-kerning: inherit\; font-feature-settings: inherit\; font-variation-settings: inherit\; font-language-override: inherit\; margin: 0px\; padding: 0px\; vertical-align: baseline\; color: inherit\;">\n<div dir="ltr" style="border: 0px\; font-style: inherit\; font-variant: inherit\; font-weight: inherit\; font-stretch: inherit\; font-size: 18px\; line-height: inherit\; font-family: inherit\; font-optical-sizing: inherit\; font-size-adjust: inherit\; font-kerning: inherit\; font-feature-settings: inherit\; font-variation-settings: inherit\; font-language-override: inherit\; margin: 0px\; padding: 0px\; vertical-align: baseline\; color: inherit\;"><span style="border: 0px\; font-style: inherit\; font-variant: inherit\; font-weight: inherit\; font-stretch: inherit\; font-size: small\; line-height: inherit\; font-family: inherit\; font-optical-sizing: inherit\; font-size-adjust: inherit\; font-kerning: inherit\; font-feature-settings: inherit\; font-variation-settings: inherit\; font-language-override: inherit\; margin: 0px\; padding: 0px\; vertical-align: baseline\; color: inherit\;"><span style="border: 0px\; font-style: inherit\; font-variant: inherit\; font-weight: inherit\; font-stretch: inherit\; font-size: small\; line-height: inherit\; font-family: inherit\; font-optical-sizing: inherit\; font-size-adjust: inherit\; font-kerning: inherit\; font-feature-settings: inherit\; font-variation-settings: inherit\; font-language-override: inherit\; margin: 0px\; padding: 0px\; vertical-align: baseline\; color: inherit\;">Mission:&nbsp\;</span></span></div>\n\n<h3 class="x_gmail_default" dir="ltr" style="line-height: 44px\; margin: 0px\; padding-bottom: 25px\; font-family: LibreBaskerville-Italic\, Arial\; font-weight: normal\;"><span style="border: 0px\; font-style: inherit\; font-variant: inherit\; font-weight: inherit\; font-stretch: inherit\; font-size: small\; line-height: inherit\; font-family: inherit\; font-optical-sizing: inherit\; font-size-adjust: inherit\; font-kerning: inherit\; font-feature-settings: inherit\; font-variation-settings: inherit\; font-language-override: inherit\; margin: 0px\; padding: 0px\; vertical-align: baseline\; color: inherit\;"><span style="border: 0px\; font-style: inherit\; font-variant: inherit\; font-weight: inherit\; font-stretch: inherit\; font-size: small\; line-height: inherit\; font-family: inherit\; font-optical-sizing: inherit\; font-size-adjust: inherit\; font-kerning: inherit\; font-feature-settings: inherit\; font-variation-settings: inherit\; font-language-override: inherit\; margin: 0px\; padding: 0px\; vertical-align: baseline\; color: inherit\;"><span style="border: 0px\; font-style: inherit\; font-variant: inherit\; font-weight: inherit\; font-stretch: inherit\; font-size: 18px\; line-height: inherit\; font-family: inherit\; font-optical-sizing: inherit\; font-size-adjust: inherit\; font-kerning: inherit\; font-feature-settings: inherit\; font-variation-settings: inherit\; font-language-override: inherit\; margin: 0px\; padding: 0px\; vertical-align: baseline\; color: inherit\;">The Friends of Ridgefield National Wildlife Refuge is a non-profit membership organization that champions the protection of wildlife and their habitats by broadening public understanding of and engagement in the natural and cultural resources of the Ridgefield National Wildlife Refuge.</span></span></span></h3>\n\n<h3 class="x_gmail_default" dir="ltr" style="line-height: 44px\; margin: 0px\; padding-bottom: 25px\; font-family: LibreBaskerville-Italic\, Arial\; font-weight: normal\;"><span style="border: 0px\; font-style: inherit\; font-variant: inherit\; font-weight: inherit\; font-stretch: inherit\; font-size: small\; line-height: inherit\; font-family: inherit\; font-optical-sizing: inherit\; font-size-adjust: inherit\; font-kerning: inherit\; font-feature-settings: inherit\; font-variation-settings: inherit\; font-language-override: inherit\; margin: 0px\; padding: 0px\; vertical-align: baseline\; color: inherit\;"><span style="border: 0px\; font-style: inherit\; font-variant: inherit\; font-weight: inherit\; font-stretch: inherit\; font-size: small\; line-height: inherit\; font-family: inherit\; font-optical-sizing: inherit\; font-size-adjust: inherit\; font-kerning: inherit\; font-feature-settings: inherit\; font-variation-settings: inherit\; font-language-override: inherit\; margin: 0px\; padding: 0px\; vertical-align: baseline\; color: inherit\;"><span style="border: 0px\; font-style: inherit\; font-variant: inherit\; font-weight: inherit\; font-stretch: inherit\; font-size: 18px\; line-height: inherit\; font-family: Arial\, Helvetica\, sans-serif\; font-optical-sizing: inherit\; font-size-adjust: inherit\; font-kerning: inherit\; font-feature-settings: inherit\; font-variation-settings: inherit\; font-language-override: inherit\; margin: 0px\; padding: 0px\; vertical-align: baseline\; color: inherit\;">Goals:&nbsp\;<br />\n-</span></span></span><span style="border: 0px\; font-style: inherit\; font-variant: inherit\; font-weight: inherit\; font-stretch: inherit\; font-size: small\; line-height: inherit\; font-family: inherit\; font-optical-sizing: inherit\; font-size-adjust: inherit\; font-kerning: inherit\; font-feature-settings: inherit\; font-variation-settings: inherit\; font-language-override: inherit\; margin: 0px\; padding: 0px\; vertical-align: baseline\; color: inherit\;"><font color="#000000">Fundraise&nbsp\;to support the organization&#39\;s mission\, including raising money&nbsp\;f</font>or the new Community Nature Center&#39\;s interpretive and functional needs</span><br />\n<span style="border: 0px\; font-style: inherit\; font-variant: inherit\; font-weight: inherit\; font-stretch: inherit\; font-size: small\; line-height: inherit\; font-family: inherit\; font-optical-sizing: inherit\; font-size-adjust: inherit\; font-kerning: inherit\; font-feature-settings: inherit\; font-variation-settings: inherit\; font-language-override: inherit\; margin: 0px\; padding: 0px\; vertical-align: baseline\; color: inherit\;"><font color="#000000">-Provide outreach and education&nbsp\;about Ridgefield</font><span style="border: 0px\; font: inherit\; margin: 0px\; padding: 0px\; vertical-align: baseline\; color: rgb(200\, 38\, 19)\;">&nbsp\;</span><font color="#000000">National Wildlife</font><span style="border: 0px\; font: inherit\; margin: 0px\; padding: 0px\; vertical-align: baseline\; color: rgb(200\, 38\, 19)\;">&nbsp\;</span><font color="#000000">Refuge</font></span></h3>\n\n<div style="border: 0px\; font-style: inherit\; font-variant: inherit\; font-weight: inherit\; font-stretch: inherit\; font-size: 18px\; line-height: inherit\; font-family: inherit\; font-optical-sizing: inherit\; font-size-adjust: inherit\; font-kerning: inherit\; font-feature-settings: inherit\; font-variation-settings: inherit\; font-language-override: inherit\; margin: 0px\; padding: 0px\; vertical-align: baseline\; color: inherit\;"><span style="border: 0px\; font-style: inherit\; font-variant: inherit\; font-weight: inherit\; font-stretch: inherit\; font-size: small\; line-height: inherit\; font-family: inherit\; font-optical-sizing: inherit\; font-size-adjust: inherit\; font-kerning: inherit\; font-feature-settings: inherit\; font-variation-settings: inherit\; font-language-override: inherit\; margin: 0px\; padding: 0px\; vertical-align: baseline\; color: inherit\;"><font color="#000000">-Promote wildlife and habitat conservation efforts&nbsp\;through social media\, workshops\, events\, and education programs</font></span></div>\n\n<div dir="ltr" style="border: 0px\; font-style: inherit\; font-variant: inherit\; font-weight: inherit\; font-stretch: inherit\; font-size: 18px\; line-height: inherit\; font-family: inherit\; font-optical-sizing: inherit\; font-size-adjust: inherit\; font-kerning: inherit\; font-feature-settings: inherit\; font-variation-settings: inherit\; font-language-override: inherit\; margin: 0px\; padding: 0px\; vertical-align: baseline\; color: inherit\;"><span style="border: 0px\; font-style: inherit\; font-variant: inherit\; font-weight: inherit\; font-stretch: inherit\; font-size: small\; line-height: inherit\; font-family: inherit\; font-optical-sizing: inherit\; font-size-adjust: inherit\; font-kerning: inherit\; font-feature-settings: inherit\; font-variation-settings: inherit\; font-language-override: inherit\; margin: 0px\; padding: 0px\; vertical-align: baseline\; color: inherit\;"><font color="#000000">-Promote the Refuge&#39\;s programs and&nbsp\;support their funding and volunteer&nbsp\;</font>needs</span></div>\n\n<div dir="ltr" style="border: 0px\; font-style: inherit\; font-variant: inherit\; font-weight: inherit\; font-stretch: inherit\; font-size: 18px\; line-height: inherit\; font-family: inherit\; font-optical-sizing: inherit\; font-size-adjust: inherit\; font-kerning: inherit\; font-feature-settings: inherit\; font-variation-settings: inherit\; font-language-override: inherit\; margin: 0px\; padding: 0px\; vertical-align: baseline\; color: inherit\;"><span style="border: 0px\; font-style: inherit\; font-variant: inherit\; font-weight: inherit\; font-stretch: inherit\; font-size: small\; line-height: inherit\; font-family: inherit\; font-optical-sizing: inherit\; font-size-adjust: inherit\; font-kerning: inherit\; font-feature-settings: inherit\; font-variation-settings: inherit\; font-language-override: inherit\; margin: 0px\; padding: 0px\; vertical-align: baseline\; color: inherit\;"><span style="border: 0px\; font-style: inherit\; font-variant: inherit\; font-weight: inherit\; font-stretch: inherit\; font-size: small\; line-height: inherit\; font-family: inherit\; font-optical-sizing: inherit\; font-size-adjust: inherit\; font-kerning: inherit\; font-feature-settings: inherit\; font-variation-settings: inherit\; font-language-override: inherit\; margin: 0px\; padding: 0px\; vertical-align: baseline\; color: inherit\;">-Engage with&nbsp\;local community&nbsp\;businesses to help spread the above messages</span></span></div>\n\n<div dir="ltr" style="border: 0px\; font-style: inherit\; font-variant: inherit\; font-weight: inherit\; font-stretch: inherit\; font-size: 18px\; line-height: inherit\; font-family: inherit\; font-optical-sizing: inherit\; font-size-adjust: inherit\; font-kerning: inherit\; font-feature-settings: inherit\; font-variation-settings: inherit\; font-language-override: inherit\; margin: 0px\; padding: 0px\; vertical-align: baseline\; color: inherit\;">&nbsp\;</div>\n\n<div dir="ltr" style="border: 0px\; font-style: inherit\; font-variant: inherit\; font-weight: inherit\; font-stretch: inherit\; font-size: 18px\; line-height: inherit\; font-family: inherit\; font-optical-sizing: inherit\; font-size-adjust: inherit\; font-kerning: inherit\; font-feature-settings: inherit\; font-variation-settings: inherit\; font-language-override: inherit\; margin: 0px\; padding: 0px\; vertical-align: baseline\; color: inherit\;"><b>Neighbors Helping Neighbors:</b></div>\n</div>\n</div>\n</div>\n</div>\n</div>\n\n<div style="border: 0px\; font: inherit\; margin: 0px\; padding: 0px\; vertical-align: baseline\; color: inherit\;">\n<div class="x_gmail_signature" dir="ltr" style="border: 0px\; font: inherit\; margin: 0px\; padding: 0px\; vertical-align: baseline\; color: inherit\;">\n<div dir="ltr" style="border: 0px\; font: inherit\; margin: 0px\; padding: 0px\; vertical-align: baseline\; color: inherit\;">\n<div dir="ltr" style="border: 0px\; font: inherit\; margin: 0px\; padding: 0px\; vertical-align: baseline\; color: inherit\;">\n<div dir="ltr" style="border: 0px\; font: inherit\; margin: 0px\; padding: 0px\; vertical-align: baseline\; color: inherit\;">\n<div style="border: 0px\; font: inherit\; margin: 0px\; padding: 0px\; vertical-align: baseline\; color: inherit\;">&nbsp\;</div>\n\n<div style="border: 0px\; font: inherit\; margin: 0px\; padding: 0px\; vertical-align: baseline\; color: inherit\;">For 40 years\, Neighbors Helping Neighbors has worked to alleviate<br />\nhunger in our community.<br />\nThrough the efforts of volunteers and donations from local residents\, and support from<br />\norganizations including Green Bag Ridgefield\, the Clark County Food Bank and Rosauers<br />\nSupermarkets\, we provide food\, clothing and household staples to needy residents of Ridgefield\, La<br />\nCenter\, Felida and Salmon Creek.<br />\nIn addition to weekly distributions of food baskets of shelf-stable food\, fresh produce\, frozen and<br />\nrefrigerated food and bulk dry food products\, and weekly distribution of household staples such as<br />\ndishwashing soap\, toilet paper\, and paper towels\, we also distribute holiday food boxes with<br />\nturkeys\, produce and foods traditionally eaten during the holidays and gift bags for members of the<br />\nfamilies served.</div>\n</div>\n</div>\n</div>\n</div>\n</div>\n</div>\n<br />\n<span style="color: rgb(51\, 51\, 51)\; font-family: sans-serif\, Arial\, Verdana\, &quot\;Trebuchet MS&quot\;\; font-size: 13px\; background-color: rgb(255\, 255\, 255)\;">Remember to bring your business cards for networking and a door prize if you would like to promote your business! We look forward to seeing&nbsp\; you all there as we learn from our non-profit panel of guests.</span>
LOCATION:BevRidge Public 4315 S Settler Dr Suite 100 Ridgefield\, WA 98642 Remote Option: Can't make it in person? We have a Zoom option available and will share audio and video of the meeting and interact with anyone joining online. See Zoom link below. http://ridgefieldchamberofcommerce.us14.list-manage.com/track/click?u=f9c0bcb153c1b2a5ce755421d&id=9e83725268&e=e89744fa4e
UID:e.3468.3578
SEQUENCE:3
DTSTAMP:20260424T014912Z
URL:https://business.ridgefieldchamberofcommerce.com/events/details/lunch-and-learn-non-profit-panel-3578
END:VEVENT

END:VCALENDAR
